BEGIN:VCALENDAR
PRODID:-//eluceo/ical//2.0/EN
VERSION:2.0
CALSCALE:GREGORIAN
BEGIN:VEVENT
UID:bd5392aed98928bab9e7c2fdb5958745
DTSTAMP:20260422T084726Z
SUMMARY:Temple Sinai: We Need to Talk About Antisemitism by Rabbi Diana Fer
 sko
DESCRIPTION:UJA Federation of Greater Toronto\nJewish Toronto Calendar\nhtt
 ps://jewishtoronto.com/calendar/temple-sinai-we-need-to-talk-about-antisem
 itism-by-rabbi-diana-fersko-1695150679\n\nTemple Sinai IN-PERSON Book Brea
 k We Need to Talk About Antisemitism by Rabbi Diana Fersko Thursday\, Octo
 ber 19 at 7.30 p.m.In We Need to Talk About Antisemitism\, Rabbi Diana Fer
 sko calls on Jews and non-Jews alike to speak up against hate and counter 
 it with a message of solidarity and hope.Join us in-person as Fersko discu
 sses her wonderful book (live via Zoom)\, shares a few excerpts and answer
 s questions. A timely read and discussion for anyone passionate about figh
 ting for a better tomorr...
DTSTART;TZID=America/Toronto:20231019T193000
DTEND;TZID=America/Toronto:20231019T203000
END:VEVENT
END:VCALENDAR
