BEGIN:VCALENDAR
PRODID:-//eluceo/ical//2.0/EN
VERSION:2.0
CALSCALE:GREGORIAN
BEGIN:VEVENT
UID:55ede59f41131f0311fde8268b5b3508
DTSTAMP:20260424T144815Z
SUMMARY:Temple Sinai Virtual Kiddush Hosted by Sinai Connections
DESCRIPTION:UJA Federation of Greater Toronto\nJewish Toronto Calendar\nhtt
 ps://jewishtoronto.com/calendar/temple-sinai-virtual-kiddush-hosted-by-sin
 ai-connections-1616434967\n\nTemple Sinai Virtual Kiddush Hosted by Sinai 
 Connections Sunday\, March 28 at 11.00 a.m.  Don't PASSOVER the opportunit
 y to schmooze with your Temple family. Join us for a virtual Kiddush follo
 wing services. Register online at https://templesinai.net/virtual-seder/\,
  call the Temple office at 416-487-4161 or email programs@templesinai.net.
DTSTART;TZID=America/Toronto:20210328T110000
DTEND;TZID=America/Toronto:20210328T113000
END:VEVENT
END:VCALENDAR
