BEGIN:VCALENDAR
PRODID:-//eluceo/ical//2.0/EN
VERSION:2.0
CALSCALE:GREGORIAN
BEGIN:VEVENT
UID:7c160099319493c8136219c376791048
DTSTAMP:20260421T131741Z
SUMMARY:Temple Sinai Social Club Day Trip — Gypsy
DESCRIPTION:UJA Federation of Greater Toronto\nJewish Toronto Calendar\nhtt
 ps://jewishtoronto.com/calendar/temple-sinai-social-club-day-trip--gypsy-1
 582749349\n\nTemple Sinai Social Club Day Trip — Gypsy\nJoin our Temple 
 Sinai seniors for a trip to Shaw Festival Theatre to see the matinee\, GYP
 SY. Time: Check in at 9:30 a.m.\; Bus departs Temple Sinai (210 Wilson Ave
 .) at 10:00 a.m. Cost: Members: $110\; Guests: $120\nFor more information 
 and to register\, visit us online at www.templesinai.net call the Temple O
 ffice at 416-487-4161 or email programs@templesinai.net by March 12. 210 W
 ilson Avenue.
DTSTART;TZID=America/Toronto:20200507T100000
DTEND;TZID=America/Toronto:20200507T160000
END:VEVENT
END:VCALENDAR
