BEGIN:VCALENDAR
PRODID:-//eluceo/ical//2.0/EN
VERSION:2.0
CALSCALE:GREGORIAN
BEGIN:VEVENT
UID:c3128f49bcc661651bfa66be18cb51a9
DTSTAMP:20260419T154437Z
SUMMARY:Temple Sinai S'lichot 2024 - We're Stronger Together
DESCRIPTION:UJA Federation of Greater Toronto\nJewish Toronto Calendar\nhtt
 ps://jewishtoronto.com/calendar/temple-sinai-slichot-2024---were-stronger-
 together-1724598411\n\nTemple Sinai S'lichot 2024 - We're Stronger Togethe
 r Saturday\, September 28 from 9.00 pm to 11.00 pmThese unprecedented and 
 unsettled times have led to a renewal of Jewish pride and involvement.Temp
 le Sinai's S'lichot services are not just the beginning of our High Holy D
 ay season\, it’s also a chance to express our love and support for Israe
 l\, for our Canadian Jewish community\, and for each other. Already well k
 nown for thought provoking content\, great music and engaging performers\,
  this ye...
DTSTART;TZID=America/Toronto:20240928T210000
DTEND;TZID=America/Toronto:20240928T230000
END:VEVENT
END:VCALENDAR
