BEGIN:VCALENDAR
PRODID:-//eluceo/ical//2.0/EN
VERSION:2.0
CALSCALE:GREGORIAN
BEGIN:VEVENT
UID:0772dd8e1a4ea32fb6771364c5905f92
DTSTAMP:20260420T080928Z
SUMMARY:Temple Sinai Sinai Stories - Hosted by Lorne Rubenstein
DESCRIPTION:UJA Federation of Greater Toronto\nJewish Toronto Calendar\nhtt
 ps://jewishtoronto.com/calendar/temple-sinai-sinai-stories---hosted-by-lor
 ne-rubenstein-1591316133\n\nThis week's Sinai Stories will feature Temple 
 Sinai past president\, Lorne Bernstein. Lorne has been involved in many as
 pects of Temple life\, from learning the art of chanting Torah to making o
 ur building an accessible place for all of our members. We hope you enjoy 
 his story. Sinai Stories promotes the art of storytelling from a Jewish le
 ns. It celebrates our community’s diversity and common experiences in ou
 r daily lives and at Temple Sinai. If you have a story that you would like
  to have ...
DTSTART;TZID=America/Toronto:20200609T190000
DTEND;TZID=America/Toronto:20200609T200000
END:VEVENT
END:VCALENDAR
