BEGIN:VCALENDAR
PRODID:-//eluceo/ical//2.0/EN
VERSION:2.0
CALSCALE:GREGORIAN
BEGIN:VEVENT
UID:7b369afbdfe79c4dc985150075031f74
DTSTAMP:20260425T134953Z
SUMMARY:Temple Sinai Simchat Torah
DESCRIPTION:UJA Federation of Greater Toronto\nJewish Toronto Calendar\nhtt
 ps://jewishtoronto.com/calendar/temple-sinai-simchat-torah-1729448246\n\nT
 emple Sinai Simchat Torah Wednesday\, October 23\, 2024Family Simchat Tora
 h Celebration | 5:30pmJoin us for a fun\, active\, kid-friendly celebratio
 n of Simchat Torah! Together with our families\, we'll wave flags\, dance 
 into the new year\, and restart the Torah from the beginning on this final
  festival of the High Holy Days.Register for In-Person https://rebrand.ly/
 tsct-stf24Simchat Torah Service | 6:30pmJoin us as we mark the conclusion 
 of our High Holy Days with our Simchat Torah service and ce...
DTSTART;TZID=America/Toronto:20241023T173000
DTEND;TZID=America/Toronto:20241023T183000
END:VEVENT
END:VCALENDAR
