BEGIN:VCALENDAR
PRODID:-//eluceo/ical//2.0/EN
VERSION:2.0
CALSCALE:GREGORIAN
BEGIN:VEVENT
UID:72a1cefb1ed5edc779be62ab061ccddf
DTSTAMP:20260420T204748Z
SUMMARY: TEMPLE SINAI: Shirah Chadashah - Senior Cantor Installation
DESCRIPTION:UJA Federation of Greater Toronto\nJewish Toronto Calendar\nhtt
 ps://jewishtoronto.com/calendar/temple-sinai-shirah-chadashah-senior-canto
 r-installation\n\nIN-PERSON\nShirah Chadashah: A legacy of musical excelle
 nce continues with a new generation of music and song\nSunday\, November 2
 3 at 11:30am\n\nJoin us as we officially welcome our new senior cantor to 
 the Temple Sinai family with a joyful morning of music and community.\n\nT
 he celebration will feature a special performance showcasing Cantor Adelma
 n Gershon’s rich and diverse repertoire\, including guest Rabbi Sharon S
 obel of Temple Beth Or\, and appearances by the Temple Sinai Ensemble Choi
 ...
DTSTART;TZID=America/Toronto:20251123T113000
DTEND;TZID=America/Toronto:20251123T130000
END:VEVENT
END:VCALENDAR
