BEGIN:VCALENDAR
PRODID:-//eluceo/ical//2.0/EN
VERSION:2.0
CALSCALE:GREGORIAN
BEGIN:VEVENT
UID:19c2206b87eb324a3985be0283962ebf
DTSTAMP:20260420T093344Z
SUMMARY:Temple Sinai: Sha-at Ivrit Adult Intermediate Hebrew Academy
DESCRIPTION:UJA Federation of Greater Toronto\nJewish Toronto Calendar\nhtt
 ps://jewishtoronto.com/calendar/temple-sinai-sha-at-ivrit-adult-intermedia
 te-hebrew-academy-1641831928\n\nTemple Sinai: Sha-at Ivrit Adult Intermedi
 ate Hebrew Academy  Mondays\, January 10 to April 4 from 11.00 a.m. to 12.
 15 p.m.Learn prayer-based Hebrew with a welcoming community of learners.  
 Increase your proficiency in reading with accuracy and fluency of the Shab
 bat morning prayers.Cost:  Members: No charge Non-Members: $100 for 10 wee
 ksA link to the program will be sent once registration is complete.For mor
 e information visit our website at www.templesinai.net\, register online a
 t https://clo...
DTSTART;TZID=America/Toronto:20220110T110000
DTEND;TZID=America/Toronto:20220110T121500
END:VEVENT
END:VCALENDAR
