BEGIN:VCALENDAR
PRODID:-//eluceo/ical//2.0/EN
VERSION:2.0
CALSCALE:GREGORIAN
BEGIN:VEVENT
UID:05b2fceb8a5f5cbceaf2d7f83f85400c
DTSTAMP:20260421T212417Z
SUMMARY:Temple Sinai: Sha-at Ivrit Adult Advanced Hebrew Academy
DESCRIPTION:UJA Federation of Greater Toronto\nJewish Toronto Calendar\nhtt
 ps://jewishtoronto.com/calendar/temple-sinai-sha-at-ivrit-adult-advanced-h
 ebrew-academy-1641832105\n\nTemple Sinai: Sha-at Ivrit Adult Advanced Hebr
 ew Academy  Thursdays\, January 13 to April 7 from 11.00 a.m. to 12.15 p.m
 .Learn prayer-based Hebrew with a welcoming community of learners  Focus o
 n reading fluency and comprehension of the siddur prayers for the Shabbat 
 morning service.Cost:  Members: No charge Non-Members: $100 for 10 weeksA 
 link to the program will be sent once registration is complete.For more in
 formation visit our website at www.templesinai.net\, register online at ht
 tps://clo...
DTSTART;TZID=America/Toronto:20220113T110000
DTEND;TZID=America/Toronto:20220113T121500
END:VEVENT
END:VCALENDAR
