BEGIN:VCALENDAR
PRODID:-//eluceo/ical//2.0/EN
VERSION:2.0
CALSCALE:GREGORIAN
BEGIN:VEVENT
UID:f5a67f49eca7a5111578910831b65d22
DTSTAMP:20260421T113728Z
SUMMARY:Temple Sinai 's MyToronto Photo Exhibit - Wine and Cheese Reception
DESCRIPTION:UJA Federation of Greater Toronto\nJewish Toronto Calendar\nhtt
 ps://jewishtoronto.com/calendar/temple-sinai-s-mytoronto-photo-exhibit---w
 ine-and-cheese-reception-1559225562\n\nA Temple Sinai Program: Next Gen (A
 ges 22 to 39) Presents MYTORONTO Photo Exhibit Followed by an Exclusive Wi
 ne and Cheese Reception\n\nImagine being given a single-use camera and ask
 ed to snap photos representing what Toronto means to you. What would you y
 earn to capture? Dozens of individuals who have experienced homelessness a
 nd poverty in our city had this opportunity\, and we have the chance to wi
 tness their work. You are invited to join with award-winning photographers
  of MYTORONTO for a...
DTSTART;TZID=America/Toronto:20190623T170000
DTEND;TZID=America/Toronto:20190623T190000
END:VEVENT
END:VCALENDAR
