BEGIN:VCALENDAR
PRODID:-//eluceo/ical//2.0/EN
VERSION:2.0
CALSCALE:GREGORIAN
BEGIN:VEVENT
UID:de7eed1743caa1b2373927e369299e55
DTSTAMP:20260425T025552Z
SUMMARY:Temple Sinai: Remote Shalom - High Holy Days Edition with Rabbi  Do
 lgin
DESCRIPTION:UJA Federation of Greater Toronto\nJewish Toronto Calendar\nhtt
 ps://jewishtoronto.com/calendar/temple-sinai-remote-shalom---high-holy-day
 s-edition-with-rabbi--dolgin-1598037923\n\nA Temple Sinai Program: Remote 
 Shalom -- High Holy Days Edition with Rabbi Michael Dolgin Saturday\, Augu
 st 29 at 1.00 p.m. Join our friends from our sister congregation Ramot Sha
 lom of Be'er Sheva as we study together to prepare for the coming festival
 s. We will compare the musical traditions in Israeli Reform congregations 
 with our own rituals here in Toronto. This will give a peek into the excit
 ing recordings we are making for our own congregation as well. Join us for
  this interactive\, inte...
DTSTART;TZID=America/Toronto:20200829T130000
DTEND;TZID=America/Toronto:20200829T150000
END:VEVENT
END:VCALENDAR
