BEGIN:VCALENDAR
PRODID:-//eluceo/ical//2.0/EN
VERSION:2.0
CALSCALE:GREGORIAN
BEGIN:VEVENT
UID:f4376085c8fd40edcb05daeaab28cf30
DTSTAMP:20260419T221235Z
SUMMARY:Temple Sinai Pulpit Exchange with Beth Shalom Munich
DESCRIPTION:UJA Federation of Greater Toronto\nJewish Toronto Calendar\nhtt
 ps://jewishtoronto.com/calendar/temple-sinai-pulpit-exchange-with-beth-sha
 lom-munich-1621006558\n\nTemple Sinai Pulpit Exchange with Beth Shalom Mun
 ich Friday\, May 21 to Sunday\, May 23 Join us for our first ever pulpit e
 xchange weekend with Congregation Beth Shalom of Munich\, Germany!Led by R
 abbi Dr. Tom Kucera\, Beth Shalom is one of some twenty congregations in G
 ermany that belong to the World Union for Progressive Judaism.Sunday\, May
  23 at 11.00 a.m. Join us for a very special brunch-time international edi
 tion of Sounds of Sinai\, featuring musical presentations by Beth Shalom
 ’s Cantor ...
DTSTART;TZID=America/Toronto:20210523T110000
DTEND;TZID=America/Toronto:20210523T113000
END:VEVENT
END:VCALENDAR
