BEGIN:VCALENDAR
PRODID:-//eluceo/ical//2.0/EN
VERSION:2.0
CALSCALE:GREGORIAN
BEGIN:VEVENT
UID:001733e53998a2e0d335ae50bc43b05f
DTSTAMP:20260423T100729Z
SUMMARY:Temple Sinai Pulpit Exchange with Beth Shalom Munich
DESCRIPTION:UJA Federation of Greater Toronto\nJewish Toronto Calendar\nhtt
 ps://jewishtoronto.com/calendar/temple-sinai-pulpit-exchange-with-beth-sha
 lom-munich-1621006420\n\nFriday\, May 21 to Sunday\, May 23 Join us for ou
 r first ever pulpit exchange weekend with Congregation Beth Shalom of Muni
 ch\, Germany!Led by Rabbi Dr. Tom Kucera\, Beth Shalom is one of some twen
 ty congregations in Germany that belong to the World Union for Progressive
  Judaism.Saturday\, May 22 at 10.00 a.m. Rabbi Tom Kucera will be joining 
 us and participating in our Shabbat morning servicesSunday\, May 23 at 11.
 00 a.m. Join us for a very special brunch-time international edition of So
 unds of Si...
DTSTART;TZID=America/Toronto:20210522T100000
DTEND;TZID=America/Toronto:20210522T110000
END:VEVENT
END:VCALENDAR
