BEGIN:VCALENDAR
PRODID:-//eluceo/ical//2.0/EN
VERSION:2.0
CALSCALE:GREGORIAN
BEGIN:VEVENT
UID:c927f2f36e8cb0781065497362b2c410
DTSTAMP:20260423T112357Z
SUMMARY:Temple Sinai Program: Guided Meditation with Rabbi Sue Oren
DESCRIPTION:UJA Federation of Greater Toronto\nJewish Toronto Calendar\nhtt
 ps://jewishtoronto.com/calendar/temple-sinai-program-guided-meditation-wit
 h-rabbi-sue-oren-1588945015\n\nTemple Sinai Program: Guided Meditation wit
 h Rabbi Sue Oren\nThursdays\, May 14\, 21\, 28 at 12.30 p.m.\nJoin this br
 eak - from work\, solitude\, home-schooling\, screen time - and share focu
 sed quiet through meditation. Let’s take a seat and find our breath thro
 ugh insights and melodies from Jewish tradition. Since her ordination from
  HUC-JIR in 1992\, Rabbi Sue Oren has been an adult educator on Jewish\, i
 nterfaith and secular topics: primarily in NYC\, Tel Aviv (2008-2012) and 
 as a visiting teach...
DTSTART;TZID=America/Toronto:20200514T123000
DTEND;TZID=America/Toronto:20200514T133000
END:VEVENT
END:VCALENDAR
