BEGIN:VCALENDAR
PRODID:-//eluceo/ical//2.0/EN
VERSION:2.0
CALSCALE:GREGORIAN
BEGIN:VEVENT
UID:7e08da3bb086d27e435d6bf1c86c2fbd
DTSTAMP:20260419T124055Z
SUMMARY:Temple Sinai Program — Ben Steinberg Musical Legacy Winner\, Ron 
 Cohen Mann
DESCRIPTION:UJA Federation of Greater Toronto\nJewish Toronto Calendar\nhtt
 ps://jewishtoronto.com/calendar/temple-sinai-program-ben-steinberg-musical
 -legacy-winner-ron-cohen-mann\n\nA Temple Sinai Program — 2015/2016 Ben 
 Steinberg Musical Legacy Award Winner\, Ron Cohen Mann\, Oboist and Englis
 h Hornist\n\nTemple Sinai is proud to announce the winner of the 2015/2016
  Ben Steinberg Musical Legacy Award: Ron Cohen Mann. In its 32nd year\, th
 e award was established to encourage the careers of young Jewish artists i
 n the Canadian community as well as the performance of music by Jewish com
 posers. Ron Cohen Mann is the winner of the Yamaha Young Performing Artist
 s Competition 2...
DTSTART;TZID=America/Toronto:20160202T200000
DTEND;TZID=America/Toronto:20160202T220000
END:VEVENT
END:VCALENDAR
