BEGIN:VCALENDAR
PRODID:-//eluceo/ical//2.0/EN
VERSION:2.0
CALSCALE:GREGORIAN
BEGIN:VEVENT
UID:2305f564414c29ca524873fb8efb7962
DTSTAMP:20260424T015956Z
SUMMARY:Temple Sinai - Pre-Shabbat Musical Series - 3
DESCRIPTION:UJA Federation of Greater Toronto\nJewish Toronto Calendar\nhtt
 ps://jewishtoronto.com/calendar/temple-sinai-pre-shabbat-musical-series--3
 \n\nJust as Torah has travelled great distances\, so too has our approach 
 to Jewish music. Cantor Osborne will explore the most recent developments 
 in Jewish music with thought-provoking questions: How do we maintain our s
 ense of tradition with modern styles? How do secular trends impact liturgy
 ? What innovations are happening in Israel? The class will include musical
  examples and special guests. Time: 8:45 a.m. 210 Wilson Avenue.
DTSTART;TZID=America/Toronto:20160213T084500
DTEND;TZID=America/Toronto:20160213T120000
END:VEVENT
END:VCALENDAR
