BEGIN:VCALENDAR
PRODID:-//eluceo/ical//2.0/EN
VERSION:2.0
CALSCALE:GREGORIAN
BEGIN:VEVENT
UID:45ca2f73a7023736fbc0f550bd1c1563
DTSTAMP:20260421T113748Z
SUMMARY:Temple Sinai: Out of the Whirlwind - With Rabbi Englander
DESCRIPTION:UJA Federation of Greater Toronto\nJewish Toronto Calendar\nhtt
 ps://jewishtoronto.com/calendar/temple-sinai-out-of-the-whirlwind---with-r
 abbi-englander-1741628181\n\nTemple Sinai: Out of the Whirlwind: Israeli M
 usic and Poetry in the Aftermath of October 7\nSunday\, March 23 at 2:30pm
  to 4:30pm\n\nYossi Klein-Halevi once said\, “To understand Israel\, you
  have to listen to its soundtrack.” In the wake of the October 7 massacr
 e\, beyond the headlines and news reports\, music and poetry have become p
 owerful expressions of Israel’s collective grief\, resilience\, and hope
 .\n\nJoin Rabbi Englander as we explore the emotional landscape of post-Oc
 tober 7 Israel ...
DTSTART;TZID=America/Toronto:20250323T143000
DTEND;TZID=America/Toronto:20250323T163000
END:VEVENT
END:VCALENDAR
