BEGIN:VCALENDAR
PRODID:-//eluceo/ical//2.0/EN
VERSION:2.0
CALSCALE:GREGORIAN
BEGIN:VEVENT
UID:6ffdcfe13d98f737f789f271c63c56e8
DTSTAMP:20260422T040631Z
SUMMARY:Temple Sinai Omer Study
DESCRIPTION:UJA Federation of Greater Toronto\nJewish Toronto Calendar\nhtt
 ps://jewishtoronto.com/calendar/temple-sinai-omer-study-1617996436\n\nTemp
 le Sinai Omer Study Saturdays\, April 17 to May 15 at 11.30 a.m.Together w
 e will study Pirkei Avot from the Mishnah\, a compilation of famous saying
 s and teachings of the early Rabbis of the Talmud. Each week we will learn
  from one chapter of this foundational Jewish teaching on ethics\, communi
 ty\, and character. Together we will study through the period of the Omer\
 , which concludes with the festival celebration of Shavuot. For more infor
 mation visit us at www.templesinai.net\, call the Templ...
DTSTART;TZID=America/Toronto:20210417T113000
DTEND;TZID=America/Toronto:20210417T123000
END:VEVENT
END:VCALENDAR
