BEGIN:VCALENDAR
PRODID:-//eluceo/ical//2.0/EN
VERSION:2.0
CALSCALE:GREGORIAN
BEGIN:VEVENT
UID:d86f5e5ac048e729c3cb78705258ad49
DTSTAMP:20260422T025154Z
SUMMARY:Temple Sinai NextGen (20’s and 30’s) Pizza Night
DESCRIPTION:UJA Federation of Greater Toronto\nJewish Toronto Calendar\nhtt
 ps://jewishtoronto.com/calendar/temple-sinai-nextgen-20s-and-30s-pizza-nig
 ht-1617996610\n\nTemple Sinai NextGen (20’s and 30’s) Pizza Night Thur
 sday\, April 22 at 7.30p.m. Join Temple Sinai's NextGen (20's and 30's) as
  we meet in the virtual kitchen to make pizza together and practice your p
 izza toss! Chef Tony Loschiavo from L-Eat catering and Paese Ristorante wi
 ll walk us through the process of making pizza at home. All ingredients ar
 e prepped\, ready to go\, and included in a handy meal kit! You can pick u
 p your meal kit the day of\, or opt for delivery at home ($5 delivery char
 ...
DTSTART;TZID=America/Toronto:20210422T193000
DTEND;TZID=America/Toronto:20210422T210000
END:VEVENT
END:VCALENDAR
