BEGIN:VCALENDAR
PRODID:-//eluceo/ical//2.0/EN
VERSION:2.0
CALSCALE:GREGORIAN
BEGIN:VEVENT
UID:a5b1d1dedda6750b9a84be03ce5febde
DTSTAMP:20260422T170624Z
SUMMARY:Temple Sinai Next Gen Prg. (Ages 22 to 39): Caffeination and Inspir
 ation
DESCRIPTION:UJA Federation of Greater Toronto\nJewish Toronto Calendar\nhtt
 ps://jewishtoronto.com/calendar/temple-sinai-next-gen-prg-ages-22-to-39-ca
 ffeination-and-inspiration-1590117582\n\nA Temple Sinai Next Gen Program (
 Ages 22 to 39): Caffeination and InspirationTuesday\, May 26 at 2.00 p.m.G
 rab a cup of coffee and join Rabbi Shaner and other young professionals fo
 r 30 minutes of catching up and insights about the weekly Torah portion. F
 or more information\, visit us online at www.templesinai.net or call the T
 emple Office at 416-487-4161.
DTSTART;TZID=America/Toronto:20200526T140000
DTEND;TZID=America/Toronto:20200526T150000
END:VEVENT
END:VCALENDAR
