BEGIN:VCALENDAR
PRODID:-//eluceo/ical//2.0/EN
VERSION:2.0
CALSCALE:GREGORIAN
BEGIN:VEVENT
UID:789518603485cc2af5371afda21fd317
DTSTAMP:20260423T131841Z
SUMMARY:Temple Sinai Next Gen Ages 22 to 39) - Shalom (Stuck)@Home
DESCRIPTION:UJA Federation of Greater Toronto\nJewish Toronto Calendar\nhtt
 ps://jewishtoronto.com/calendar/temple-sinai-next-gen-ages-22-to-39---shal
 om-stuckhome-1587918996\n\nA Temple Sinai Next Gen Program (Ages 22 to 39)
  - Shalom (Stuck)@HomeThursday\, April 30 at 8.00 p.m. and Thursday\, May 
 14 at 8.00 p.m.\nRabbi Jordan and Kate Shaner will moderate this series of
  discussions with a relationship expert on how to deal with the challenges
  of social distancing and maintaining our relationships. Grab a glass of w
 ine\, your partner\, parent\, or roommate\, and join us remotely.\nFor mor
 e information\, visit us online at www.templesinai.net or call the Temple 
 Office at 416...
DTSTART;TZID=America/Toronto:20200514T200000
DTEND;TZID=America/Toronto:20200514T210000
END:VEVENT
END:VCALENDAR
