BEGIN:VCALENDAR
PRODID:-//eluceo/ical//2.0/EN
VERSION:2.0
CALSCALE:GREGORIAN
BEGIN:VEVENT
UID:24913ec865242bb9ac606c9a6865c8f5
DTSTAMP:20260421T181920Z
SUMMARY:Temple Sinai Next Gen (Ages 22-39): Caffeination and Inspiration
DESCRIPTION:UJA Federation of Greater Toronto\nJewish Toronto Calendar\nhtt
 ps://jewishtoronto.com/calendar/temple-sinai-next-gen-ages-22-39-caffeinat
 ion-and-inspiration-1588945749\n\nA Temple Sinai Next Gen Program (Ages 22
  to 39): Caffeination and Inspiration\nTuesdays\, May 12\, 19\, 26\, at 2.
 00 p.m.\nGrab a cup of coffee and join Rabbi Shaner and other young profes
 sionals for 30 minutes of catching up and insights about the weekly Torah 
 portion. For more information\, visit us online at www.templesinai.net or 
 call the Temple Office at 416-487-4161.
DTSTART;TZID=America/Toronto:20200512T140000
DTEND;TZID=America/Toronto:20200512T150000
END:VEVENT
END:VCALENDAR
