BEGIN:VCALENDAR
PRODID:-//eluceo/ical//2.0/EN
VERSION:2.0
CALSCALE:GREGORIAN
BEGIN:VEVENT
UID:0d9d3195bf1badc521e9057f4baa1313
DTSTAMP:20260424T144900Z
SUMMARY:Temple Sinai Mitzvah Day — Volunteer Opportunity
DESCRIPTION:UJA Federation of Greater Toronto\nJewish Toronto Calendar\nhtt
 ps://jewishtoronto.com/calendar/temple-sinai-mitzvah-day--volunteer-opport
 unity-1582746107\n\nTemple Sinai Mitzvah Day — Volunteer Opportunity\n\n
 Take part in tikkun olam projects that will impact our local community: Co
 ok for Ve'ahavta's mobile response van\; Assemble craft kits for children 
 at Kayla's Children's Centre\; Perform songs at Sunrise of Thornhill\, a s
 enior's residence\; Pack household items for families at Ronald McDonald H
 ouse\; Enjoy a tea party and games with Temple Sinai seniors. Time: 9:00 a
 .m.\nFor more information and to register visit us online at www.templesin
 ai.net\, ...
DTSTART;TZID=America/Toronto:20200308T090000
DTEND;TZID=America/Toronto:20200308T120000
END:VEVENT
END:VCALENDAR
