BEGIN:VCALENDAR
PRODID:-//eluceo/ical//2.0/EN
VERSION:2.0
CALSCALE:GREGORIAN
BEGIN:VEVENT
UID:1e9b6ea4a6b34155268fc522a5bc2505
DTSTAMP:20260419T164545Z
SUMMARY:Temple Sinai Master Chef - Passover Edition
DESCRIPTION:UJA Federation of Greater Toronto\nJewish Toronto Calendar\nhtt
 ps://jewishtoronto.com/calendar/temple-sinai-master-chef---passover-editio
 n-1516828773\n\nI can’t believe it’s kosher for Passover! Who says Pas
 sover baking needs to be bland?\nChef Isabella Londono will lead us in a h
 andson baking session\, empowering us to be masters in the kitchen – eve
 n without chametz!\n\nOur menu will focus on making petit fours (small bit
 es). We’ll design macarons and macaroons!\nGet out your apron\, and get 
 set for a fun and informative afternoon.\nAll ingredients and recipes incl
 uded.\n\nIsabella Londono is a graduate of Le Cordon Bleu and currently...
DTSTART;TZID=America/Toronto:20180311T130000
DTEND;TZID=America/Toronto:20180311T150000
END:VEVENT
END:VCALENDAR
