BEGIN:VCALENDAR
PRODID:-//eluceo/ical//2.0/EN
VERSION:2.0
CALSCALE:GREGORIAN
BEGIN:VEVENT
UID:a15e53087d395092719300370d20b3ec
DTSTAMP:20260420T042959Z
SUMMARY:Temple Sinai is Honouring Rabbi Michael Dolgin
DESCRIPTION:UJA Federation of Greater Toronto\nJewish Toronto Calendar\nhtt
 ps://jewishtoronto.com/calendar/temple-sinai-is-honouring-rabbi-michael-do
 lgin-1488918757\n\nTemple Sinai is Honouring Rabbi Michael DolginOur belov
 ed Rabbi Michael Dolgin will be honoured with a Doctor of Divinity\, honor
 is causa\, by the Hebrew Union College-Jewish Institute of Religion for 25
  outstanding years of commitment\, dedication\, and service. Please join u
 s to celebrate this wonderful occasion.  Time: 10:00 a.m. 210 Wilson Avenu
 e.
DTSTART;TZID=America/Toronto:20170401T100000
DTEND;TZID=America/Toronto:20170401T123000
END:VEVENT
END:VCALENDAR
