BEGIN:VCALENDAR
PRODID:-//eluceo/ical//2.0/EN
VERSION:2.0
CALSCALE:GREGORIAN
BEGIN:VEVENT
UID:0ece5899cd57ee7765a460d6c55af813
DTSTAMP:20260419T140625Z
SUMMARY:Temple Sinai Installation of Rabbi Shaner and Cantor Brown-Levy
DESCRIPTION:UJA Federation of Greater Toronto\nJewish Toronto Calendar\nhtt
 ps://jewishtoronto.com/calendar/temple-sinai-installation-of-rabbi-shaner-
 and-cantor-brown-levy-1571063588\n\nAs we begin the New Year\, please join
  us to start a new chapter of Temple life and formally welcome Rabbi Jorda
 n Shaner and Cantor Sharon Brown-Levy to our family. We will also celebrat
 e a founding leader\, Al Green z”l\, with the dedication of the Green ha
 lls.\n\nGear up for an energetic afternoon of musical performances and com
 munity celebration\, including guest cantor\, Riki Lippitz\, and the Templ
 e Sinai Ensemble Choir.\n\nCantor Riki Lippitz has served as Cantor of Ohe
 b Shalom Congregation...
DTSTART;TZID=America/Toronto:20191027T153000
DTEND;TZID=America/Toronto:20191027T170000
END:VEVENT
END:VCALENDAR
