BEGIN:VCALENDAR
PRODID:-//eluceo/ical//2.0/EN
VERSION:2.0
CALSCALE:GREGORIAN
BEGIN:VEVENT
UID:cb7e82b639af04159d81492e6c749006
DTSTAMP:20260422T183247Z
SUMMARY:Temple Sinai In-Person Circle Time Shabbat and Big Kid Blessings
DESCRIPTION:UJA Federation of Greater Toronto\nJewish Toronto Calendar\nhtt
 ps://jewishtoronto.com/calendar/temple-sinai-in-person-circle-time-shabbat
 -and-big-kid-blessings-1730841620\n\nTemple Sinai In-Person Circle Time Sh
 abbat/Big Kid Blessings\nSaturday\, June 7 from 10:00am to 12:00pm\n\nWe i
 nvite children aged 0-4 (with a parent/caregiver) to join us for Circle Ti
 me Shabbat\, and older children aged 5-8 for “Big Kid Blessings”.\n\nP
 rogram includes arts and crafts\, music class\, story time with the rabbi 
 and special inclusion in the Shabbat morning service\, followed by lunch f
 or the whole family.\n\nRegister https://rebrand.ly/tsf-circletime
DTSTART;TZID=America/Toronto:20250607T100000
DTEND;TZID=America/Toronto:20250607T120000
END:VEVENT
END:VCALENDAR
