BEGIN:VCALENDAR
PRODID:-//eluceo/ical//2.0/EN
VERSION:2.0
CALSCALE:GREGORIAN
BEGIN:VEVENT
UID:c5df3a59e3fc39afef80f0b65f4fb484
DTSTAMP:20260421T113928Z
SUMMARY:Temple Sinai In-Person Circle Time Shabbat and Big Kid Blessings
DESCRIPTION:UJA Federation of Greater Toronto\nJewish Toronto Calendar\nhtt
 ps://jewishtoronto.com/calendar/temple-sinai-in-person-circle-time-shabbat
 -and-big-kid-blessings-1730840068\n\nTemple Sinai In-Person Circle Time Sh
 abbat/Big Kid Blessings\nSaturday\, December 7 from 10:00am to 12:00pm\n\n
 We invite children aged 0-4 (with a parent/caregiver) to join us for Circl
 e Time Shabbat\, and older children aged 5-8 for “Big Kid Blessings”.\
 n\nProgram includes arts and crafts\, music class\, story time with the ra
 bbi and special inclusion in the Shabbat morning service\, followed by lun
 ch for the whole family.\n\nRegister https://rebrand.ly/tsf-circletime
DTSTART;TZID=America/Toronto:20241207T100000
DTEND;TZID=America/Toronto:20241207T120000
END:VEVENT
END:VCALENDAR
