BEGIN:VCALENDAR
PRODID:-//eluceo/ical//2.0/EN
VERSION:2.0
CALSCALE:GREGORIAN
BEGIN:VEVENT
UID:808dc6c53fadd2edaab6e0980c2cefe8
DTSTAMP:20260421T210511Z
SUMMARY:Temple Sinai Honoring Cantor Charles Osborne
DESCRIPTION:UJA Federation of Greater Toronto\nJewish Toronto Calendar\nhtt
 ps://jewishtoronto.com/calendar/temple-sinai-honoring-cantor-charles-osbor
 ne-1642176185\n\nTemple Sinai Honoring Cantor Charles Osborne\nWednesday\,
  February 2\, from 3:30 p.m. to 5:00 p.m.\n\nYishar koach to Cantor Charle
 s Osborne on receiving an honorary Doctor of Music degree from The Jewish 
 Theological Seminary.\n\nPlease join Cantor Osborne on Wednesday\, Februar
 y 2\, at 3.30 p.m. for the convocation ceremony.\n\nThe honorary doctorate
  is awarded for many years of distinguished service and in recognition of 
 outstanding cantorial achievements and dedication to an evolving Jewish mu
 ...
DTSTART;TZID=America/Toronto:20220202T153000
DTEND;TZID=America/Toronto:20220202T170000
END:VEVENT
END:VCALENDAR
