BEGIN:VCALENDAR
PRODID:-//eluceo/ical//2.0/EN
VERSION:2.0
CALSCALE:GREGORIAN
BEGIN:VEVENT
UID:f62769aad2d9ad3152b3a70dcb24bac8
DTSTAMP:20260425T224132Z
SUMMARY:Temple Sinai Harold Green Theatre Company New Jerusalem
DESCRIPTION:UJA Federation of Greater Toronto\nJewish Toronto Calendar\nhtt
 ps://jewishtoronto.com/calendar/temple-sinai-harold-green-theatre-company-
 new-jerusalem\n\nReserve by Friday February 28th noon\n\nBus leaves from T
 emple Sinai\n\n 
DTSTART;TZID=America/Toronto:20140323T130000
DTEND;TZID=America/Toronto:20140323T160000
END:VEVENT
END:VCALENDAR
