BEGIN:VCALENDAR
PRODID:-//eluceo/ical//2.0/EN
VERSION:2.0
CALSCALE:GREGORIAN
BEGIN:VEVENT
UID:92a627d552258b412d265eec89841192
DTSTAMP:20260419T232703Z
SUMMARY:Temple Sinai Golf Day
DESCRIPTION:UJA Federation of Greater Toronto\nJewish Toronto Calendar\nhtt
 ps://jewishtoronto.com/calendar/temple-sinai-golf-day-1741629092\n\nTemple
  Sinai Golf Day\nThursday\, July 24\n\nYour generous support of Temple Sin
 ai's Golf Days helps ensure our building remains safe\, secure\, and welco
 ming for all.\n\nAll Golf Day packages include a golf cart\, green fees\, 
 one snack\, two meals and three drinks. Tee times are scheduled every 15mi
 nutes\, starting at 8:00am and continuing until 4:00pm.\n\nJuly 24: Regist
 er & Book Your Tee Time https://rebrand.ly/tsct-golfday0725\n\nDonate to t
 he Temple Sinai Security Fund https://cloud4good.tfafo...
DTSTART;TZID=America/Toronto:20250724T080000
DTEND;TZID=America/Toronto:20250724T170000
END:VEVENT
END:VCALENDAR
