BEGIN:VCALENDAR
PRODID:-//eluceo/ical//2.0/EN
VERSION:2.0
CALSCALE:GREGORIAN
BEGIN:VEVENT
UID:6746054eb5360e1cee43562713cca8d1
DTSTAMP:20260419T142310Z
SUMMARY:Temple Sinai GOLF Charity Tournament
DESCRIPTION:UJA Federation of Greater Toronto\nJewish Toronto Calendar\nhtt
 ps://jewishtoronto.com/calendar/temple-sinai-golf-charity-tournament-15151
 97973\n\nTemple Sinai GOLF Charity Tournament\n\nRanked the third best new
  golf course in 2016 by Golf Digest\, Lebovic Golf Club is an 18 hole cham
 pionship golf course designed by world renowned course architect Doug Carr
 isk. Join us for 18 Holes of golf with golf cart\, gift bags\; BBQ lunch\,
  dinner. Early Bird Registration until Thursday\, March 15. Cost: Foursome
 : $1000\; Single Golfer: $300\; Dinner Only: $75.\n\nTo register\, for inf
 ormation on sponsorship opportunities or questions about the tournament\, 
 plea...
DTSTART;TZID=America/Toronto:20180627T090000
DTEND;TZID=America/Toronto:20180627T220000
END:VEVENT
END:VCALENDAR
