BEGIN:VCALENDAR
PRODID:-//eluceo/ical//2.0/EN
VERSION:2.0
CALSCALE:GREGORIAN
BEGIN:VEVENT
UID:a783079233aaa05f53b2356931ad2e27
DTSTAMP:20260422T165443Z
SUMMARY:Temple Sinai: Go Under the Radar with author David Eisenstadt
DESCRIPTION:UJA Federation of Greater Toronto\nJewish Toronto Calendar\nhtt
 ps://jewishtoronto.com/calendar/temple-sinai-go-under-the-radar-with-autho
 r-david-eisenstadt-1652454688\n\nTemple Sinai Virtual Program: Go Under th
 e Radar with author David Eisenstadt  Thursday\, May 19 at 7.30 p.m.Join w
 riter and long-time Temple Sinai member David Eisenstadt as he discusses h
 is new book\, Under the Radar: 30 Notable Canadian Jewish Musicians. Canto
 r Charles Osborne\, with his extensive musical knowledge\, will facilitate
  this engaging discussion. David will share anecdotes about the musicians 
 he researched\, including several with strong connections to the Temple Si
 nai community. In...
DTSTART;TZID=America/Toronto:20220519T193000
DTEND;TZID=America/Toronto:20220519T210000
END:VEVENT
END:VCALENDAR
