BEGIN:VCALENDAR
PRODID:-//eluceo/ical//2.0/EN
VERSION:2.0
CALSCALE:GREGORIAN
BEGIN:VEVENT
UID:e8c1f88a4e3f77f7094191c5129cb6bc
DTSTAMP:20260420T024605Z
SUMMARY:Temple Sinai Families Shavuot In The Park
DESCRIPTION:UJA Federation of Greater Toronto\nJewish Toronto Calendar\nhtt
 ps://jewishtoronto.com/calendar/temple-sinai-families-shavuot-in-the-park-
 1746730002\n\nOur Shavuot in the Park is a fun-filled\, family-friendly Je
 wish event perfect for Temple member families with children 18 months\, to
  12 years of age\, and non-members are welcome too!  \n\nEnjoy the outdoor
 s with a nature scavenger hunt\, hands-on arts and crafts\, a cool ice cre
 am treat\, and engaging activities! We'll also celebrate Shavuot through s
 ongs and story telling with Rabbi Shaner!   \n\nBring a blanket\, a lawn c
 hair and don't forget your fellow family members! Don’t miss this...
DTSTART;TZID=America/Toronto:20250601T150000
DTEND;TZID=America/Toronto:20250601T163000
END:VEVENT
END:VCALENDAR
