BEGIN:VCALENDAR
PRODID:-//eluceo/ical//2.0/EN
VERSION:2.0
CALSCALE:GREGORIAN
BEGIN:VEVENT
UID:98c21be1610d76bf6bcf2f0e5ca0e166
DTSTAMP:20260422T132026Z
SUMMARY:Temple Sinai Families Mighty Mitzvah Purim Party
DESCRIPTION:UJA Federation of Greater Toronto\nJewish Toronto Calendar\nhtt
 ps://jewishtoronto.com/calendar/temple-sinai-families-mighty-mitzvah-purim
 -party-1709312700\n\nTemple Sinai Families Mighty Mitzvah Purim Party\nSun
 day\, March 24 at 10.30 a.m.\n\nJoin fellow “Heroes of Sinai” for a sp
 ecial megillah briefing with our clergy in the Sanctuary\, followed by an 
 adventure through our halls of wonder and excitement that will include a s
 ilent disco\, sandwich making (mishloach manot) for the unhoused\, face pa
 inting\, crafts and carnival games with prizes\, hamantashen and more!\n\n
 Register https://rebrand.ly/tsf-mmpp24
DTSTART;TZID=America/Toronto:20240324T103000
DTEND;TZID=America/Toronto:20240324T123000
END:VEVENT
END:VCALENDAR
