BEGIN:VCALENDAR
PRODID:-//eluceo/ical//2.0/EN
VERSION:2.0
CALSCALE:GREGORIAN
BEGIN:VEVENT
UID:7c2c2e8365e84bc84366e43a974a324d
DTSTAMP:20260421T070208Z
SUMMARY:TEMPLE SINAI: D'var Torah with Lesley Sachs
DESCRIPTION:UJA Federation of Greater Toronto\nJewish Toronto Calendar\nhtt
 ps://jewishtoronto.com/calendar/temple-sinai-dvar-torah-with-lesley-sachs\
 n\nJoin us for a special D'var Torah and speech\, followed by a Q&A over l
 unch with Lesley Sachs\, Chair of the Israel Movement for Reform and Progr
 essive Judaism. \n\nClick here to register.
DTSTART;TZID=America/Toronto:20251122T100000
DTEND;TZID=America/Toronto:20251122T123000
END:VEVENT
END:VCALENDAR
