BEGIN:VCALENDAR
PRODID:-//eluceo/ical//2.0/EN
VERSION:2.0
CALSCALE:GREGORIAN
BEGIN:VEVENT
UID:d69417ad085b184f832085e90c046eff
DTSTAMP:20260421T035026Z
SUMMARY:Temple Sinai Connections Study Session
DESCRIPTION:UJA Federation of Greater Toronto\nJewish Toronto Calendar\nhtt
 ps://jewishtoronto.com/calendar/temple-sinai-connections-study-session-153
 5024793\n\nTemple Sinai Connections Study Session\nWas Jonah a hero or ant
 i-hero? His extraordinary story of being summoned by God and swallowed by 
 a whale speaks to our times. On this important day of soul searching\, we 
 will connect with one another and reflect on the value of these connection
 s to our synagogue family. Time: 2:00 p.m. This service is open to the com
 munity. For more information\, visit us at www.templesinai.net. Picture id
 entification will be required. 
DTSTART;TZID=America/Toronto:20180919T140000
DTEND;TZID=America/Toronto:20180919T150000
END:VEVENT
END:VCALENDAR
