BEGIN:VCALENDAR
PRODID:-//eluceo/ical//2.0/EN
VERSION:2.0
CALSCALE:GREGORIAN
BEGIN:VEVENT
UID:b9a8f9bcfa0e6b8255985d6b7172a737
DTSTAMP:20260420T160930Z
SUMMARY:Temple Sinai Circle Time Shanah Tovah
DESCRIPTION:UJA Federation of Greater Toronto\nJewish Toronto Calendar\nhtt
 ps://jewishtoronto.com/calendar/temple-sinai-circle-time-shanah-tovah-1724
 598763\n\nTemple Sinai Circle Time Shanah Tovah Thursday\, October 3 from 
 4.00 pm to 5.00 pmLaugh\, learn\, sing and play! Make your own shofar\, ta
 ste the sweetness of the New Year with apples and honey\, and join us for 
 a tashlich activity in the garden (weather permitting) to celebrate Rosh H
 ashanah in style. Designed for Children Ages 0-5 with their caregivers.Reg
 istration https://rebrand.ly/tsct-hhct24
DTSTART;TZID=America/Toronto:20241003T160000
DTEND;TZID=America/Toronto:20241003T170000
END:VEVENT
END:VCALENDAR
