BEGIN:VCALENDAR
PRODID:-//eluceo/ical//2.0/EN
VERSION:2.0
CALSCALE:GREGORIAN
BEGIN:VEVENT
UID:8e7cd5a127530a04542829d13c2c8f4d
DTSTAMP:20260422T182558Z
SUMMARY:Temple Sinai Circle Time Shabbat Big Kid Blessings (In-Person)
DESCRIPTION:UJA Federation of Greater Toronto\nJewish Toronto Calendar\nhtt
 ps://jewishtoronto.com/calendar/temple-sinai-circle-time-shabbat-big-kid-b
 lessings-in-person-1724597556\n\nTemple Sinai Circle Time Shabbat/Big Kid 
 Blessings (In-Person)  Saturday\, September 7 from 10.00 am to 12.00 pmWe 
 invite children aged 0-4 (with a parent/caregiver) to join us for Circle T
 ime Shabbat\, and older children aged 5-8 for “Big Kid Blessings”.Prog
 ram includes arts and crafts\, music class\, story time with the rabbi and
  special inclusion in the Shabbat morning service\, followed by lunch for 
 the whole family.Register https://rebrand.ly/tsc-circletime
DTSTART;TZID=America/Toronto:20240907T100000
DTEND;TZID=America/Toronto:20240907T120000
END:VEVENT
END:VCALENDAR
