BEGIN:VCALENDAR
PRODID:-//eluceo/ical//2.0/EN
VERSION:2.0
CALSCALE:GREGORIAN
BEGIN:VEVENT
UID:996fd33e60b0c8da03a8f81d7c3892ba
DTSTAMP:20260422T073608Z
SUMMARY:Temple Sinai: Circle Time Shabbat
DESCRIPTION:UJA Federation of Greater Toronto\nJewish Toronto Calendar\nhtt
 ps://jewishtoronto.com/calendar/temple-sinai-circle-time-shabbat-168779452
 0\n\nTemple Sinai: Circle Time Shabbat (Outside in the Playground!) Saturd
 ay\, July 22\, 2023 10.00 a.m. to 12.00 p.m.We invite children aged 0-4 to
  join us for Circle Time Shabbat\, and older children aged 5-8 for “Big 
 Kid Blessings”. Includes arts and crafts\, snack\, Suzuki ECE music clas
 s\, story time with the rabbi\, and special inclusion in the Shabbat morni
 ng service\, followed by lunch for the whole family.For more information a
 nd to register\, please visit www.templesinai.net\, email david@temp...
DTSTART;TZID=America/Toronto:20230722T100000
DTEND;TZID=America/Toronto:20230722T120000
END:VEVENT
END:VCALENDAR
