BEGIN:VCALENDAR
PRODID:-//eluceo/ical//2.0/EN
VERSION:2.0
CALSCALE:GREGORIAN
BEGIN:VEVENT
UID:5bfb65aaa73f0345aaf976cd6f78d253
DTSTAMP:20260424T132621Z
SUMMARY:Temple Sinai Charity Golf Tournament
DESCRIPTION:UJA Federation of Greater Toronto\nJewish Toronto Calendar\nhtt
 ps://jewishtoronto.com/calendar/temple-sinai-charity-golf-tournament-16258
 47034\n\nTemple Sinai Charity Golf Tournament Sunday\, August 22\, 2021 In
  Support of Temple Sinai Youth Travel Programs Lebovic Golf Club\, 14020 L
 eslie Street\, AuroraGolf three times for the price of one at the Lebovic 
 Golf Club! Tee times will occur every fifteen minutes\, beginning at 8.00 
 a.m. until 4.00 p.m.Your tournament package includes: • Power cart\, mea
 ls and drinks • Each golfer will also be able to book two additional tee
  times at Lebovic Golf Club* during the 2021 season at no charge\, in...
DTSTART;TZID=America/Toronto:20210822T080000
DTEND;TZID=America/Toronto:20210822T160000
END:VEVENT
END:VCALENDAR
