BEGIN:VCALENDAR
PRODID:-//eluceo/ical//2.0/EN
VERSION:2.0
CALSCALE:GREGORIAN
BEGIN:VEVENT
UID:f55ccb9fc35e5380388e03f122fde3e9
DTSTAMP:20260419T181311Z
SUMMARY:Temple Sinai Charity Golf Day
DESCRIPTION:UJA Federation of Greater Toronto\nJewish Toronto Calendar\nhtt
 ps://jewishtoronto.com/calendar/temple-sinai-charity-golf-day-1684261220\n
 \nTemple Sinai Charity Golf Day\nTuesday\, June 13\, 2023\nLebovic Golf Cl
 ub\, 14020 Leslie Street\, Aurora\n\nSingle Golfer: $180\nFoursome: $600\n
 \nYOUR GOLF DAY PACKAGE INCLUDES:\n★ Golf cart\, snack\, two meals and t
 hree drinks.\n★ Golfers can purchase vouchers for future play.\n($99+tax
  Monday to Friday and $119+tax on weekends per round of golf\, including a
  cart!)\n\nTee times occur every 15 minutes\, beginning at 8.00 a.m. until
  4.00 p.m.\n\nFor more information and to register please visit...
DTSTART;TZID=America/Toronto:20230613T080000
DTEND;TZID=America/Toronto:20230613T160000
END:VEVENT
END:VCALENDAR
