BEGIN:VCALENDAR
PRODID:-//eluceo/ical//2.0/EN
VERSION:2.0
CALSCALE:GREGORIAN
BEGIN:VEVENT
UID:5e2216145b06e4537b5aea4e530f4f34
DTSTAMP:20260421T181854Z
SUMMARY:Temple Sinai Charity Golf Day
DESCRIPTION:UJA Federation of Greater Toronto\nJewish Toronto Calendar\nhtt
 ps://jewishtoronto.com/calendar/temple-sinai-charity-golf-day-1650991108\n
 \nTemple Sinai Charity Golf Day\nIN SUPPORT OF TEMPLE SINAI YOUTH TRAVEL P
 ROGRAMS\nTuesday\, June 14\n\nGolf three times for the price of one at the
  Lebovic Golf Club!\n\nTee times will occur every fifteen minutes\, beginn
 ing at 8.00 a.m. until 4.00 p.m.\n\nYour Golf Day package includes:\n\n•
  Power cart\, snack\, two meals and three drinks\n• Each golfer will als
 o be able to book two additional tee times at Lebovic Golf Club* during th
 e 2022 season at no charge\, including a power cart\, meals a...
DTSTART;TZID=America/Toronto:20220614T090000
DTEND;TZID=America/Toronto:20220614T180000
END:VEVENT
END:VCALENDAR
