BEGIN:VCALENDAR
PRODID:-//eluceo/ical//2.0/EN
VERSION:2.0
CALSCALE:GREGORIAN
BEGIN:VEVENT
UID:f045371e1a19e3ab4643efb07ac3ca64
DTSTAMP:20260420T142559Z
SUMMARY:Temple Sinai Catering Showcase
DESCRIPTION:UJA Federation of Greater Toronto\nJewish Toronto Calendar\nhtt
 ps://jewishtoronto.com/calendar/temple-sinai-catering-showcase-1671810014\
 n\nTemple Sinai Catering Showcase Tuesday\, January 17 from 6.00 p.m. to 8
 .30 p.m.Planning a simchah? Whether you are arranging a wedding\, bar/bat 
 mitzvah\, baby naming\, business meeting or any kind of special event\, Te
 mple Sinai’s central location\, large parking capacity\, renovated space
 s and catering partners make it a perfect place to host your next function
 . Just leave the details to us\, and you can be confident your event will 
 be executed flawlessly. Get a taste of what Temple Sinai has to ...
DTSTART;TZID=America/Toronto:20230117T180000
DTEND;TZID=America/Toronto:20230117T203000
END:VEVENT
END:VCALENDAR
