BEGIN:VCALENDAR
PRODID:-//eluceo/ical//2.0/EN
VERSION:2.0
CALSCALE:GREGORIAN
BEGIN:VEVENT
UID:3df1c3f9ab0d92fd382cd03f7325a381
DTSTAMP:20260422T000416Z
SUMMARY:TEMPLE SINAI BOOK BREAK: “Fagin the Thief” With Allison Epstein
DESCRIPTION:UJA Federation of Greater Toronto\nJewish Toronto Calendar\nhtt
 ps://jewishtoronto.com/calendar/temple-sinai-book-break-fagin-the-thief-wi
 th-allison-epstein-1766172420\n\nIN-PERSON (A RENAISSANCE INITIATIVE)\nBOO
 K BREAK: “Fagin the Thief” With Allison Epstein\nSAVE THE DATE: Sunday
 \, February 8 at 2:00pm\n\nDoors open at 1:30pm (reception and free book f
 air)\n\nJoin us for a special midwinter Book Break with author\, Allison E
 pstein (on Zoom) about her new book\, Fagin the Thief”. Come hear about 
 this thrilling reimagining of the world of Dickens\, as seen through the e
 yes of the infamous Jacob Fagin\, London’s most gifted pickpocket\, liar
 \, and rogue. Learn...
DTSTART;TZID=America/Toronto:20260208T140000
DTEND;TZID=America/Toronto:20260208T160000
END:VEVENT
END:VCALENDAR
