BEGIN:VCALENDAR
PRODID:-//eluceo/ical//2.0/EN
VERSION:2.0
CALSCALE:GREGORIAN
BEGIN:VEVENT
UID:5800188bd947011162cc892144e06ebd
DTSTAMP:20260420T110847Z
SUMMARY:Temple Sinai: Ben Steinberg Musical Legacy Award Concert
DESCRIPTION:UJA Federation of Greater Toronto\nJewish Toronto Calendar\nhtt
 ps://jewishtoronto.com/calendar/temple-sinai-ben-steinberg-musical-legacy-
 award-concert-1739889096\n\nTemple Sinai Ben Steinberg Musical Legacy Awar
 d Concert (In-Person & Online)\nSaturday\, March 29 from 10:00am to 2:00pm
 \n\nA special Shabbat morning service paying tribute to the late Ben Stein
 berg\, of blessed memory\, featuring our two 2024 Ben Steinberg Young Musi
 cal Artist Award winners\, mezzo-soprano\, Jessica Lyublinsky and pianist\
 , Jonathan Alter.\n\nOur Shabbat Morning Service\, will lift your spirits 
 and provide comfort\, blending the music of our cantors Osborne and Lebovi
 tz with the voi...
DTSTART;TZID=America/Toronto:20250329T100000
DTEND;TZID=America/Toronto:20250329T140000
END:VEVENT
END:VCALENDAR
