BEGIN:VCALENDAR
PRODID:-//eluceo/ical//2.0/EN
VERSION:2.0
CALSCALE:GREGORIAN
BEGIN:VEVENT
UID:ac5ff600c1cbeafda4374b65f46c2e93
DTSTAMP:20260422T143344Z
SUMMARY:Temple Sinai - Ben Steinberg Musical Legacy Award Concert 
DESCRIPTION:UJA Federation of Greater Toronto\nJewish Toronto Calendar\nhtt
 ps://jewishtoronto.com/calendar/temple-sinai-ben-steinberg-musical-legacy-
 award-concert\n\nBen Steinberg Musical Legacy Award Concert \n\nTuesday\, 
 February 2 at 8.00 p.m.\n\nThe 34th presentation of the Ben Steinberg Musi
 cal Legacy Award Concert will be performed by our winner\, Ron Cohen Mann\
 , a Jewish artist at the threshold of his career. The concert is made poss
 ible through the gifts of Helen and Joseph Berman and the Darren Kendal Me
 morial Endowment Fund.\n\nFor more information and to reserve for any of o
 ur programs\, please email programs@templesinai.net or call 416.487.4161.
DTSTART;TZID=America/Toronto:20160202T200000
DTEND;TZID=America/Toronto:20160202T220000
END:VEVENT
END:VCALENDAR
