BEGIN:VCALENDAR
PRODID:-//eluceo/ical//2.0/EN
VERSION:2.0
CALSCALE:GREGORIAN
BEGIN:VEVENT
UID:76c9daf1e1c338d1d76374c88f86dcdb
DTSTAMP:20260421T174230Z
SUMMARY:Temple Sinai: Back-to-School Boot Camp
DESCRIPTION:UJA Federation of Greater Toronto\nJewish Toronto Calendar\nhtt
 ps://jewishtoronto.com/calendar/temple-sinai-back-to-school-boot-camp-1725
 037231\n\nTemple Sinai: Back-to-School Boot Camp:\nProtecting Ourselves an
 d our Families from Antisemitism in our Public Schools\nTuesday\, Septembe
 r 10 at 7:00pm\n\nWe are at an inflection point in our schools and in the 
 world. Coming together as a community and learning from experts is crucial
  for parents\, children\, grandparents\, and teachers to feel safe and gai
 n confidence when encountering antisemitism.\n\nLearn at our workshop: How
  do I protect my family from antisemitism? How do we navigate the T...
DTSTART;TZID=America/Toronto:20240910T190000
DTEND;TZID=America/Toronto:20240910T210000
END:VEVENT
END:VCALENDAR
