BEGIN:VCALENDAR
PRODID:-//eluceo/ical//2.0/EN
VERSION:2.0
CALSCALE:GREGORIAN
BEGIN:VEVENT
UID:b2ba98bc9a4e6618a70fb20881292b83
DTSTAMP:20260426T004931Z
SUMMARY:Temple Sinai Sccent on Youth Concert
DESCRIPTION:UJA Federation of Greater Toronto\nJewish Toronto Calendar\nhtt
 ps://jewishtoronto.com/calendar/temple-sinai-accent-on-youth-concert\n\nJo
 ining us for the Accent on Youth concert is Ellen Allard\, a multi-award w
 inning recording artist\, composer\, performer\, and educator. Ellen is on
 e of the most popular and influential Jewish musicians and educators on to
 day's vibrant contemporary Jewish music scene.
DTSTART;TZID=America/Toronto:20140330T110000
DTEND;TZID=America/Toronto:20140330T140000
END:VEVENT
END:VCALENDAR
