BEGIN:VCALENDAR
PRODID:-//eluceo/ical//2.0/EN
VERSION:2.0
CALSCALE:GREGORIAN
BEGIN:VEVENT
UID:064dff5af4fe9f1ac289f95dd6797521
DTSTAMP:20260421T205539Z
SUMMARY:Temple Sinai 60th Anniversary Israel Mission
DESCRIPTION:UJA Federation of Greater Toronto\nJewish Toronto Calendar\nhtt
 ps://jewishtoronto.com/calendar/temple-sinai-60th-anniversary-israel-missi
 on\n\nIsrael Mission
DTSTART;TZID=America/Toronto:20141026T120000
DTEND;TZID=America/Toronto:20141106T160000
END:VEVENT
END:VCALENDAR
